BEGIN:VCALENDAR
VERSION:2.0
PRODID:-//St. Lorenz Lutheran Church &amp; School - ECPv6.15.20//NONSGML v1.0//EN
CALSCALE:GREGORIAN
METHOD:PUBLISH
X-WR-CALNAME:St. Lorenz Lutheran Church &amp; School
X-ORIGINAL-URL:https://stlorenz.org
X-WR-CALDESC:Events for St. Lorenz Lutheran Church &amp; School
REFRESH-INTERVAL;VALUE=DURATION:PT1H
X-Robots-Tag:noindex
X-PUBLISHED-TTL:PT1H
BEGIN:VTIMEZONE
TZID:America/Detroit
BEGIN:DAYLIGHT
TZOFFSETFROM:-0500
TZOFFSETTO:-0400
TZNAME:EDT
DTSTART:20250309T070000
END:DAYLIGHT
BEGIN:STANDARD
TZOFFSETFROM:-0400
TZOFFSETTO:-0500
TZNAME:EST
DTSTART:20251102T060000
END:STANDARD
BEGIN:DAYLIGHT
TZOFFSETFROM:-0500
TZOFFSETTO:-0400
TZNAME:EDT
DTSTART:20260308T070000
END:DAYLIGHT
BEGIN:STANDARD
TZOFFSETFROM:-0400
TZOFFSETTO:-0500
TZNAME:EST
DTSTART:20261101T060000
END:STANDARD
BEGIN:DAYLIGHT
TZOFFSETFROM:-0500
TZOFFSETTO:-0400
TZNAME:EDT
DTSTART:20270314T070000
END:DAYLIGHT
BEGIN:STANDARD
TZOFFSETFROM:-0400
TZOFFSETTO:-0500
TZNAME:EST
DTSTART:20271107T060000
END:STANDARD
END:VTIMEZONE
BEGIN:VEVENT
DTSTART;TZID=America/Detroit:20261010T090000
DTEND;TZID=America/Detroit:20261010T160000
DTSTAMP:20260421T083521
CREATED:20260414T183412Z
LAST-MODIFIED:20260414T183412Z
UID:1900-1791622800-1791648000@stlorenz.org
SUMMARY:Legacy Grandparenting Summit
DESCRIPTION:Legacy Coalition Simulcast Conference – “Heart for Eternity”\n\nThis one-day simulcast is designed to encourage and equip grandparents and “grandfriends” to intentionally share their faith with the next generation. Through engaging video sessions featuring trusted Christian speakers\, you’ll gain practical tools for building meaningful relationships\, understanding today’s cultural challenges\, and passing on a legacy of faith that lasts. \nLunch is included\, and the day also provides opportunities to connect with others who share your heart for influencing young lives. \n\nEarly registration (March 1–May 31) offers the lowest rate. Sign up by clicking here.
URL:https://stlorenz.org/event/legacy-grandparenting-summit/
LOCATION:Worship & Event Center\, 850 West Genesee Street\, Frankenmuth\, MI\, 48734-1011\, United States
ATTACH;FMTTYPE=image/png:https://stlorenz.org/wp-content/uploads/2026/04/Grandparenting-1.png
END:VEVENT
END:VCALENDAR