BEGIN:VCALENDAR
VERSION:2.0
PRODID:-//St. Lorenz Lutheran Church &amp; School - ECPv6.15.20//NONSGML v1.0//EN
CALSCALE:GREGORIAN
METHOD:PUBLISH
X-WR-CALNAME:St. Lorenz Lutheran Church &amp; School
X-ORIGINAL-URL:https://stlorenz.org
X-WR-CALDESC:Events for St. Lorenz Lutheran Church &amp; School
REFRESH-INTERVAL;VALUE=DURATION:PT1H
X-Robots-Tag:noindex
X-PUBLISHED-TTL:PT1H
BEGIN:VTIMEZONE
TZID:America/Detroit
BEGIN:DAYLIGHT
TZOFFSETFROM:-0500
TZOFFSETTO:-0400
TZNAME:EDT
DTSTART:20250309T070000
END:DAYLIGHT
BEGIN:STANDARD
TZOFFSETFROM:-0400
TZOFFSETTO:-0500
TZNAME:EST
DTSTART:20251102T060000
END:STANDARD
BEGIN:DAYLIGHT
TZOFFSETFROM:-0500
TZOFFSETTO:-0400
TZNAME:EDT
DTSTART:20260308T070000
END:DAYLIGHT
BEGIN:STANDARD
TZOFFSETFROM:-0400
TZOFFSETTO:-0500
TZNAME:EST
DTSTART:20261101T060000
END:STANDARD
BEGIN:DAYLIGHT
TZOFFSETFROM:-0500
TZOFFSETTO:-0400
TZNAME:EDT
DTSTART:20270314T070000
END:DAYLIGHT
BEGIN:STANDARD
TZOFFSETFROM:-0400
TZOFFSETTO:-0500
TZNAME:EST
DTSTART:20271107T060000
END:STANDARD
END:VTIMEZONE
BEGIN:VEVENT
DTSTART;TZID=America/Detroit:20260514T083000
DTEND;TZID=America/Detroit:20260514T183000
DTSTAMP:20260425T115159
CREATED:20260423T173450Z
LAST-MODIFIED:20260423T173451Z
UID:10002104-1778747400-1778783400@stlorenz.org
SUMMARY:Mom 2 Mom Sale
DESCRIPTION:We’d love to invite you to the Mom2Mom Sale hosted by Moms Ministry at St. Lorenz! \n\nIf you’re a mom\, grandparent\, caregiver\, or just looking for gently used baby and kids items\, come stop by and shop. We’ll have clothing\, toys\, and gear available\, and our hope is simply to bless families and support moms in our community.\n\nHours:\nDonation Drop off – Wednesday: 11 AM – 8 PM\nSale – Thursday: 8:30 AM–6:30 PM\nSale – Friday: 8:30 AM–4:30 PM \nLocation:\nChurchgrove Park\n324 Churchgrove Rd\nBuilding closest to the road \n\nAll items will be unmarked and not individually priced. Instead\, you can simply pay what you can or wish to support the ministry. More than anything\, we just want to help moms and make these items available to families who can use them. \n\nWe’re also accepting donations of gently used baby and kids clothing\, toys\, and gear on Wednesday\, May 13 from 11:00 AM–8:00 PM. \n\nWhether you come to shop\, donate\, or both\, thank you for being part of a ministry that cares for moms and families in such a practical way. 💛
URL:https://stlorenz.org/event/mom-2-mom-sale/2026-05-14/
LOCATION:Churchgrove\, 324 Churchgrove Road\, Frankenmuth\, MI\, 48734-1011\, United States
CATEGORIES:Children,MomCo
ATTACH;FMTTYPE=image/png:https://stlorenz.org/wp-content/uploads/2026/04/Mom-2-Mom-Sale-4.png
END:VEVENT
END:VCALENDAR