BEGIN:VCALENDAR
VERSION:2.0
PRODID:-//St. Lorenz Lutheran Church &amp; School - ECPv6.15.20//NONSGML v1.0//EN
CALSCALE:GREGORIAN
METHOD:PUBLISH
X-WR-CALNAME:St. Lorenz Lutheran Church &amp; School
X-ORIGINAL-URL:https://stlorenz.org
X-WR-CALDESC:Events for St. Lorenz Lutheran Church &amp; School
REFRESH-INTERVAL;VALUE=DURATION:PT1H
X-Robots-Tag:noindex
X-PUBLISHED-TTL:PT1H
BEGIN:VTIMEZONE
TZID:America/Detroit
BEGIN:DAYLIGHT
TZOFFSETFROM:-0500
TZOFFSETTO:-0400
TZNAME:EDT
DTSTART:20250309T070000
END:DAYLIGHT
BEGIN:STANDARD
TZOFFSETFROM:-0400
TZOFFSETTO:-0500
TZNAME:EST
DTSTART:20251102T060000
END:STANDARD
BEGIN:DAYLIGHT
TZOFFSETFROM:-0500
TZOFFSETTO:-0400
TZNAME:EDT
DTSTART:20260308T070000
END:DAYLIGHT
BEGIN:STANDARD
TZOFFSETFROM:-0400
TZOFFSETTO:-0500
TZNAME:EST
DTSTART:20261101T060000
END:STANDARD
BEGIN:DAYLIGHT
TZOFFSETFROM:-0500
TZOFFSETTO:-0400
TZNAME:EDT
DTSTART:20270314T070000
END:DAYLIGHT
BEGIN:STANDARD
TZOFFSETFROM:-0400
TZOFFSETTO:-0500
TZNAME:EST
DTSTART:20271107T060000
END:STANDARD
END:VTIMEZONE
BEGIN:VEVENT
DTSTART;TZID=America/Detroit:20260423T190000
DTEND;TZID=America/Detroit:20260423T210000
DTSTAMP:20260423T124502
CREATED:20250328T175059Z
LAST-MODIFIED:20251121T000541Z
UID:10000440-1776970800-1776978000@stlorenz.org
SUMMARY:REVIVE
DESCRIPTION:Come check out our young adults ministry. They meet on Thursdays from 7pm-10pm at the Rock.  Activities include Bible study\, small and large groups\, game nights and more. Join us!
URL:https://stlorenz.org/event/revive-2/2026-04-23/
LOCATION:The Rock\, 163 Churchgrove Rd\, Frankenmuth\, MI\, 48734-1011\, United States
CATEGORIES:Young Adult
ATTACH;FMTTYPE=image/jpeg:https://stlorenz.org/wp-content/uploads/2024/07/Revive-Young-Adults.jpg
END:VEVENT
BEGIN:VEVENT
DTSTART;TZID=America/Detroit:20260425T183000
DTEND;TZID=America/Detroit:20260425T193000
DTSTAMP:20260423T124502
CREATED:20251110T235732Z
LAST-MODIFIED:20260320T164907Z
UID:10001482-1777141800-1777145400@stlorenz.org
SUMMARY:Worship
DESCRIPTION:Welcome to worship! To learn more about our worship services\, click here.
URL:https://stlorenz.org/event/630pm-worship/2026-04-25/
LOCATION:Sanctuary\, 1030 West Tuscola Street\, Frankenmuth\, MI\, 48734-1011\, United States
ATTACH;FMTTYPE=image/png:https://stlorenz.org/wp-content/uploads/2025/11/4.png
END:VEVENT
BEGIN:VEVENT
DTSTART;TZID=America/Detroit:20260426T080000
DTEND;TZID=America/Detroit:20260426T090000
DTSTAMP:20260423T124502
CREATED:20251110T235548Z
LAST-MODIFIED:20260320T164551Z
UID:10000956-1777190400-1777194000@stlorenz.org
SUMMARY:Worship
DESCRIPTION:Welcome to worship! To learn more about our worship services\, click here.
URL:https://stlorenz.org/event/800am-worship/2026-04-26/
LOCATION:Sanctuary\, 1030 West Tuscola Street\, Frankenmuth\, MI\, 48734-1011\, United States
ATTACH;FMTTYPE=image/png:https://stlorenz.org/wp-content/uploads/2025/11/4.png
END:VEVENT
BEGIN:VEVENT
DTSTART;TZID=America/Detroit:20260426T093000
DTEND;TZID=America/Detroit:20260426T103000
DTSTAMP:20260423T124502
CREATED:20251110T235634Z
LAST-MODIFIED:20260320T164706Z
UID:10001219-1777195800-1777199400@stlorenz.org
SUMMARY:Worship
DESCRIPTION:Welcome to worship! To learn more about our worship services\, click here.
URL:https://stlorenz.org/event/930am-worship/2026-04-26/
LOCATION:Sanctuary\, 1030 West Tuscola Street\, Frankenmuth\, MI\, 48734-1011\, United States
ATTACH;FMTTYPE=image/png:https://stlorenz.org/wp-content/uploads/2025/11/4.png
END:VEVENT
BEGIN:VEVENT
DTSTART;TZID=America/Detroit:20260426T104500
DTEND;TZID=America/Detroit:20260426T114500
DTSTAMP:20260423T124502
CREATED:20251110T235403Z
LAST-MODIFIED:20260320T164442Z
UID:10000693-1777200300-1777203900@stlorenz.org
SUMMARY:Worship
DESCRIPTION:Welcome to worship! To learn more about our worship services\, click here.
URL:https://stlorenz.org/event/1045am-worship/2026-04-26/
LOCATION:Worship & Event Center\, 850 West Genesee Street\, Frankenmuth\, MI\, 48734-1011\, United States
ATTACH;FMTTYPE=image/png:https://stlorenz.org/wp-content/uploads/2025/11/5.png
END:VEVENT
BEGIN:VEVENT
DTSTART;TZID=America/Detroit:20260430T190000
DTEND;TZID=America/Detroit:20260430T210000
DTSTAMP:20260423T124502
CREATED:20250328T175059Z
LAST-MODIFIED:20251121T000541Z
UID:10000441-1777575600-1777582800@stlorenz.org
SUMMARY:REVIVE
DESCRIPTION:Come check out our young adults ministry. They meet on Thursdays from 7pm-10pm at the Rock.  Activities include Bible study\, small and large groups\, game nights and more. Join us!
URL:https://stlorenz.org/event/revive-2/2026-04-30/
LOCATION:The Rock\, 163 Churchgrove Rd\, Frankenmuth\, MI\, 48734-1011\, United States
CATEGORIES:Young Adult
ATTACH;FMTTYPE=image/jpeg:https://stlorenz.org/wp-content/uploads/2024/07/Revive-Young-Adults.jpg
END:VEVENT
BEGIN:VEVENT
DTSTART;TZID=America/Detroit:20260502T183000
DTEND;TZID=America/Detroit:20260502T193000
DTSTAMP:20260423T124502
CREATED:20251110T235732Z
LAST-MODIFIED:20260320T164907Z
UID:10001483-1777746600-1777750200@stlorenz.org
SUMMARY:Worship
DESCRIPTION:Welcome to worship! To learn more about our worship services\, click here.
URL:https://stlorenz.org/event/630pm-worship/2026-05-02/
LOCATION:Sanctuary\, 1030 West Tuscola Street\, Frankenmuth\, MI\, 48734-1011\, United States
ATTACH;FMTTYPE=image/png:https://stlorenz.org/wp-content/uploads/2025/11/4.png
END:VEVENT
BEGIN:VEVENT
DTSTART;TZID=America/Detroit:20260503T080000
DTEND;TZID=America/Detroit:20260503T090000
DTSTAMP:20260423T124502
CREATED:20251110T235548Z
LAST-MODIFIED:20260320T164551Z
UID:10000957-1777795200-1777798800@stlorenz.org
SUMMARY:Worship
DESCRIPTION:Welcome to worship! To learn more about our worship services\, click here.
URL:https://stlorenz.org/event/800am-worship/2026-05-03/
LOCATION:Sanctuary\, 1030 West Tuscola Street\, Frankenmuth\, MI\, 48734-1011\, United States
ATTACH;FMTTYPE=image/png:https://stlorenz.org/wp-content/uploads/2025/11/4.png
END:VEVENT
BEGIN:VEVENT
DTSTART;TZID=America/Detroit:20260503T093000
DTEND;TZID=America/Detroit:20260503T103000
DTSTAMP:20260423T124502
CREATED:20251110T235634Z
LAST-MODIFIED:20260320T164706Z
UID:10001220-1777800600-1777804200@stlorenz.org
SUMMARY:Worship
DESCRIPTION:Welcome to worship! To learn more about our worship services\, click here.
URL:https://stlorenz.org/event/930am-worship/2026-05-03/
LOCATION:Sanctuary\, 1030 West Tuscola Street\, Frankenmuth\, MI\, 48734-1011\, United States
ATTACH;FMTTYPE=image/png:https://stlorenz.org/wp-content/uploads/2025/11/4.png
END:VEVENT
BEGIN:VEVENT
DTSTART;TZID=America/Detroit:20260503T104500
DTEND;TZID=America/Detroit:20260503T114500
DTSTAMP:20260423T124502
CREATED:20251110T235403Z
LAST-MODIFIED:20260320T164442Z
UID:10000694-1777805100-1777808700@stlorenz.org
SUMMARY:Worship
DESCRIPTION:Welcome to worship! To learn more about our worship services\, click here.
URL:https://stlorenz.org/event/1045am-worship/2026-05-03/
LOCATION:Worship & Event Center\, 850 West Genesee Street\, Frankenmuth\, MI\, 48734-1011\, United States
ATTACH;FMTTYPE=image/png:https://stlorenz.org/wp-content/uploads/2025/11/5.png
END:VEVENT
BEGIN:VEVENT
DTSTART;TZID=America/Detroit:20260507T190000
DTEND;TZID=America/Detroit:20260507T210000
DTSTAMP:20260423T124502
CREATED:20250328T175059Z
LAST-MODIFIED:20251121T000541Z
UID:10000442-1778180400-1778187600@stlorenz.org
SUMMARY:REVIVE
DESCRIPTION:Come check out our young adults ministry. They meet on Thursdays from 7pm-10pm at the Rock.  Activities include Bible study\, small and large groups\, game nights and more. Join us!
URL:https://stlorenz.org/event/revive-2/2026-05-07/
LOCATION:The Rock\, 163 Churchgrove Rd\, Frankenmuth\, MI\, 48734-1011\, United States
CATEGORIES:Young Adult
ATTACH;FMTTYPE=image/jpeg:https://stlorenz.org/wp-content/uploads/2024/07/Revive-Young-Adults.jpg
END:VEVENT
BEGIN:VEVENT
DTSTART;TZID=America/Detroit:20260509T183000
DTEND;TZID=America/Detroit:20260509T193000
DTSTAMP:20260423T124502
CREATED:20251110T235732Z
LAST-MODIFIED:20260320T164907Z
UID:10001484-1778351400-1778355000@stlorenz.org
SUMMARY:Worship
DESCRIPTION:Welcome to worship! To learn more about our worship services\, click here.
URL:https://stlorenz.org/event/630pm-worship/2026-05-09/
LOCATION:Sanctuary\, 1030 West Tuscola Street\, Frankenmuth\, MI\, 48734-1011\, United States
ATTACH;FMTTYPE=image/png:https://stlorenz.org/wp-content/uploads/2025/11/4.png
END:VEVENT
BEGIN:VEVENT
DTSTART;TZID=America/Detroit:20260510T080000
DTEND;TZID=America/Detroit:20260510T090000
DTSTAMP:20260423T124502
CREATED:20251110T235548Z
LAST-MODIFIED:20260320T164551Z
UID:10000958-1778400000-1778403600@stlorenz.org
SUMMARY:Worship
DESCRIPTION:Welcome to worship! To learn more about our worship services\, click here.
URL:https://stlorenz.org/event/800am-worship/2026-05-10/
LOCATION:Sanctuary\, 1030 West Tuscola Street\, Frankenmuth\, MI\, 48734-1011\, United States
ATTACH;FMTTYPE=image/png:https://stlorenz.org/wp-content/uploads/2025/11/4.png
END:VEVENT
BEGIN:VEVENT
DTSTART;TZID=America/Detroit:20260510T093000
DTEND;TZID=America/Detroit:20260510T103000
DTSTAMP:20260423T124502
CREATED:20251110T235634Z
LAST-MODIFIED:20260320T164706Z
UID:10001221-1778405400-1778409000@stlorenz.org
SUMMARY:Worship
DESCRIPTION:Welcome to worship! To learn more about our worship services\, click here.
URL:https://stlorenz.org/event/930am-worship/2026-05-10/
LOCATION:Sanctuary\, 1030 West Tuscola Street\, Frankenmuth\, MI\, 48734-1011\, United States
ATTACH;FMTTYPE=image/png:https://stlorenz.org/wp-content/uploads/2025/11/4.png
END:VEVENT
BEGIN:VEVENT
DTSTART;TZID=America/Detroit:20260510T104500
DTEND;TZID=America/Detroit:20260510T114500
DTSTAMP:20260423T124502
CREATED:20251110T235403Z
LAST-MODIFIED:20260320T164442Z
UID:10000695-1778409900-1778413500@stlorenz.org
SUMMARY:Worship
DESCRIPTION:Welcome to worship! To learn more about our worship services\, click here.
URL:https://stlorenz.org/event/1045am-worship/2026-05-10/
LOCATION:Worship & Event Center\, 850 West Genesee Street\, Frankenmuth\, MI\, 48734-1011\, United States
ATTACH;FMTTYPE=image/png:https://stlorenz.org/wp-content/uploads/2025/11/5.png
END:VEVENT
BEGIN:VEVENT
DTSTART;TZID=America/Detroit:20260510T110000
DTEND;TZID=America/Detroit:20260510T120000
DTSTAMP:20260423T124502
CREATED:20260107T182322Z
LAST-MODIFIED:20260107T182402Z
UID:10001814-1778410800-1778414400@stlorenz.org
SUMMARY:German Worship
DESCRIPTION:Welcome to worship! To learn more about our worship services\, click here. Our German worship services feature German liturgy and hymns with an English sermon.
URL:https://stlorenz.org/event/german-worship/2026-05-10/
LOCATION:MI
ATTACH;FMTTYPE=image/png:https://stlorenz.org/wp-content/uploads/2026/01/German-Worship-1.png
END:VEVENT
BEGIN:VEVENT
DTSTART;TZID=America/Detroit:20260514T190000
DTEND;TZID=America/Detroit:20260514T210000
DTSTAMP:20260423T124502
CREATED:20250328T175059Z
LAST-MODIFIED:20251121T000541Z
UID:10000443-1778785200-1778792400@stlorenz.org
SUMMARY:REVIVE
DESCRIPTION:Come check out our young adults ministry. They meet on Thursdays from 7pm-10pm at the Rock.  Activities include Bible study\, small and large groups\, game nights and more. Join us!
URL:https://stlorenz.org/event/revive-2/2026-05-14/
LOCATION:The Rock\, 163 Churchgrove Rd\, Frankenmuth\, MI\, 48734-1011\, United States
CATEGORIES:Young Adult
ATTACH;FMTTYPE=image/jpeg:https://stlorenz.org/wp-content/uploads/2024/07/Revive-Young-Adults.jpg
END:VEVENT
BEGIN:VEVENT
DTSTART;TZID=America/Detroit:20260516T183000
DTEND;TZID=America/Detroit:20260516T193000
DTSTAMP:20260423T124502
CREATED:20251110T235732Z
LAST-MODIFIED:20260320T164907Z
UID:10001485-1778956200-1778959800@stlorenz.org
SUMMARY:Worship
DESCRIPTION:Welcome to worship! To learn more about our worship services\, click here.
URL:https://stlorenz.org/event/630pm-worship/2026-05-16/
LOCATION:Sanctuary\, 1030 West Tuscola Street\, Frankenmuth\, MI\, 48734-1011\, United States
ATTACH;FMTTYPE=image/png:https://stlorenz.org/wp-content/uploads/2025/11/4.png
END:VEVENT
BEGIN:VEVENT
DTSTART;TZID=America/Detroit:20260517T080000
DTEND;TZID=America/Detroit:20260517T090000
DTSTAMP:20260423T124502
CREATED:20251110T235548Z
LAST-MODIFIED:20260320T164551Z
UID:10000959-1779004800-1779008400@stlorenz.org
SUMMARY:Worship
DESCRIPTION:Welcome to worship! To learn more about our worship services\, click here.
URL:https://stlorenz.org/event/800am-worship/2026-05-17/
LOCATION:Sanctuary\, 1030 West Tuscola Street\, Frankenmuth\, MI\, 48734-1011\, United States
ATTACH;FMTTYPE=image/png:https://stlorenz.org/wp-content/uploads/2025/11/4.png
END:VEVENT
BEGIN:VEVENT
DTSTART;TZID=America/Detroit:20260517T093000
DTEND;TZID=America/Detroit:20260517T103000
DTSTAMP:20260423T124502
CREATED:20251110T235634Z
LAST-MODIFIED:20260320T164706Z
UID:10001222-1779010200-1779013800@stlorenz.org
SUMMARY:Worship
DESCRIPTION:Welcome to worship! To learn more about our worship services\, click here.
URL:https://stlorenz.org/event/930am-worship/2026-05-17/
LOCATION:Sanctuary\, 1030 West Tuscola Street\, Frankenmuth\, MI\, 48734-1011\, United States
ATTACH;FMTTYPE=image/png:https://stlorenz.org/wp-content/uploads/2025/11/4.png
END:VEVENT
BEGIN:VEVENT
DTSTART;TZID=America/Detroit:20260517T104500
DTEND;TZID=America/Detroit:20260517T114500
DTSTAMP:20260423T124502
CREATED:20251110T235403Z
LAST-MODIFIED:20260320T164442Z
UID:10000696-1779014700-1779018300@stlorenz.org
SUMMARY:Worship
DESCRIPTION:Welcome to worship! To learn more about our worship services\, click here.
URL:https://stlorenz.org/event/1045am-worship/2026-05-17/
LOCATION:Worship & Event Center\, 850 West Genesee Street\, Frankenmuth\, MI\, 48734-1011\, United States
ATTACH;FMTTYPE=image/png:https://stlorenz.org/wp-content/uploads/2025/11/5.png
END:VEVENT
BEGIN:VEVENT
DTSTART;TZID=America/Detroit:20260517T160000
DTEND;TZID=America/Detroit:20260517T180000
DTSTAMP:20260423T124502
CREATED:20260302T154153Z
LAST-MODIFIED:20260302T192556Z
UID:10002049-1779033600-1779040800@stlorenz.org
SUMMARY:Motor City Brass Band
DESCRIPTION:May 17th\, 2026\, 4:00 pm\nSt. Lorenz Sanctuary\n\nJoin us in commemorating a significant milestone in our nation’s history with a performance by the Motor City Brass Ensemble\, a 32-member British-style brass band based in Detroit. Known for their musical excellence and versatility\, the ensemble has earned recognition through multiple awards\, including First Place in the North American Brass Band Association (NABBA) in 2022 and five consecutive Detroit Music Awards. Their program will feature a range of repertoire from classical to contemporary\, with a special emphasis on patriotic selections in honor of the United States’ 250th anniversary.
URL:https://stlorenz.org/event/motor-city-brass-band/
LOCATION:Sanctuary\, 1030 West Tuscola Street\, Frankenmuth\, MI\, 48734-1011\, United States
ATTACH;FMTTYPE=image/png:https://stlorenz.org/wp-content/uploads/2026/03/MAS-2025-2026-events-2.png
END:VEVENT
BEGIN:VEVENT
DTSTART;TZID=America/Detroit:20260521T190000
DTEND;TZID=America/Detroit:20260521T210000
DTSTAMP:20260423T124502
CREATED:20250328T175059Z
LAST-MODIFIED:20251121T000541Z
UID:10000444-1779390000-1779397200@stlorenz.org
SUMMARY:REVIVE
DESCRIPTION:Come check out our young adults ministry. They meet on Thursdays from 7pm-10pm at the Rock.  Activities include Bible study\, small and large groups\, game nights and more. Join us!
URL:https://stlorenz.org/event/revive-2/2026-05-21/
LOCATION:The Rock\, 163 Churchgrove Rd\, Frankenmuth\, MI\, 48734-1011\, United States
CATEGORIES:Young Adult
ATTACH;FMTTYPE=image/jpeg:https://stlorenz.org/wp-content/uploads/2024/07/Revive-Young-Adults.jpg
END:VEVENT
BEGIN:VEVENT
DTSTART;TZID=America/Detroit:20260523T183000
DTEND;TZID=America/Detroit:20260523T193000
DTSTAMP:20260423T124502
CREATED:20251110T235732Z
LAST-MODIFIED:20260320T164907Z
UID:10001486-1779561000-1779564600@stlorenz.org
SUMMARY:Worship
DESCRIPTION:Welcome to worship! To learn more about our worship services\, click here.
URL:https://stlorenz.org/event/630pm-worship/2026-05-23/
LOCATION:Sanctuary\, 1030 West Tuscola Street\, Frankenmuth\, MI\, 48734-1011\, United States
ATTACH;FMTTYPE=image/png:https://stlorenz.org/wp-content/uploads/2025/11/4.png
END:VEVENT
BEGIN:VEVENT
DTSTART;TZID=America/Detroit:20260524T080000
DTEND;TZID=America/Detroit:20260524T090000
DTSTAMP:20260423T124502
CREATED:20251110T235548Z
LAST-MODIFIED:20260320T164551Z
UID:10000960-1779609600-1779613200@stlorenz.org
SUMMARY:Worship
DESCRIPTION:Welcome to worship! To learn more about our worship services\, click here.
URL:https://stlorenz.org/event/800am-worship/2026-05-24/
LOCATION:Sanctuary\, 1030 West Tuscola Street\, Frankenmuth\, MI\, 48734-1011\, United States
ATTACH;FMTTYPE=image/png:https://stlorenz.org/wp-content/uploads/2025/11/4.png
END:VEVENT
BEGIN:VEVENT
DTSTART;TZID=America/Detroit:20260524T093000
DTEND;TZID=America/Detroit:20260524T103000
DTSTAMP:20260423T124502
CREATED:20251110T235634Z
LAST-MODIFIED:20260320T164706Z
UID:10001223-1779615000-1779618600@stlorenz.org
SUMMARY:Worship
DESCRIPTION:Welcome to worship! To learn more about our worship services\, click here.
URL:https://stlorenz.org/event/930am-worship/2026-05-24/
LOCATION:Sanctuary\, 1030 West Tuscola Street\, Frankenmuth\, MI\, 48734-1011\, United States
ATTACH;FMTTYPE=image/png:https://stlorenz.org/wp-content/uploads/2025/11/4.png
END:VEVENT
BEGIN:VEVENT
DTSTART;TZID=America/Detroit:20260524T104500
DTEND;TZID=America/Detroit:20260524T114500
DTSTAMP:20260423T124502
CREATED:20251110T235403Z
LAST-MODIFIED:20260320T164442Z
UID:10000697-1779619500-1779623100@stlorenz.org
SUMMARY:Worship
DESCRIPTION:Welcome to worship! To learn more about our worship services\, click here.
URL:https://stlorenz.org/event/1045am-worship/2026-05-24/
LOCATION:Worship & Event Center\, 850 West Genesee Street\, Frankenmuth\, MI\, 48734-1011\, United States
ATTACH;FMTTYPE=image/png:https://stlorenz.org/wp-content/uploads/2025/11/5.png
END:VEVENT
BEGIN:VEVENT
DTSTART;TZID=America/Detroit:20260528T190000
DTEND;TZID=America/Detroit:20260528T210000
DTSTAMP:20260423T124502
CREATED:20250328T175059Z
LAST-MODIFIED:20251121T000541Z
UID:10000445-1779994800-1780002000@stlorenz.org
SUMMARY:REVIVE
DESCRIPTION:Come check out our young adults ministry. They meet on Thursdays from 7pm-10pm at the Rock.  Activities include Bible study\, small and large groups\, game nights and more. Join us!
URL:https://stlorenz.org/event/revive-2/2026-05-28/
LOCATION:The Rock\, 163 Churchgrove Rd\, Frankenmuth\, MI\, 48734-1011\, United States
CATEGORIES:Young Adult
ATTACH;FMTTYPE=image/jpeg:https://stlorenz.org/wp-content/uploads/2024/07/Revive-Young-Adults.jpg
END:VEVENT
BEGIN:VEVENT
DTSTART;TZID=America/Detroit:20260530T183000
DTEND;TZID=America/Detroit:20260530T193000
DTSTAMP:20260423T124502
CREATED:20251110T235732Z
LAST-MODIFIED:20260320T164907Z
UID:10001487-1780165800-1780169400@stlorenz.org
SUMMARY:Worship
DESCRIPTION:Welcome to worship! To learn more about our worship services\, click here.
URL:https://stlorenz.org/event/630pm-worship/2026-05-30/
LOCATION:Sanctuary\, 1030 West Tuscola Street\, Frankenmuth\, MI\, 48734-1011\, United States
ATTACH;FMTTYPE=image/png:https://stlorenz.org/wp-content/uploads/2025/11/4.png
END:VEVENT
BEGIN:VEVENT
DTSTART;TZID=America/Detroit:20260531T080000
DTEND;TZID=America/Detroit:20260531T090000
DTSTAMP:20260423T124503
CREATED:20251110T235548Z
LAST-MODIFIED:20260320T164551Z
UID:10000961-1780214400-1780218000@stlorenz.org
SUMMARY:Worship
DESCRIPTION:Welcome to worship! To learn more about our worship services\, click here.
URL:https://stlorenz.org/event/800am-worship/2026-05-31/
LOCATION:Sanctuary\, 1030 West Tuscola Street\, Frankenmuth\, MI\, 48734-1011\, United States
ATTACH;FMTTYPE=image/png:https://stlorenz.org/wp-content/uploads/2025/11/4.png
END:VEVENT
END:VCALENDAR